BEGIN:VCALENDAR
VERSION:2.0
PRODID:-//Tukios.com/
BEGIN:VEVENT
UID:f5298d7a-2d68-4177-b165-b1a94b6331c6@www.schislerfuneralhomes.com
DTSTAMP:20260421T090139Z
DTSTART:20230318T160000Z
DTEND:20230318T170000Z
SUMMARY:Funeral Service
DESCRIPTION:
URL:https://www.schislerfuneralhomes.com/obituaries/gloria-choy
LOCATION:Faith Alive UMC- Palmerton 678 Pine Street  Palmerton PA 18071
GEO:40.8047844;-75.6566751
END:VEVENT
END:VCALENDAR