BEGIN:VCALENDAR
VERSION:2.0
PRODID:-//Tukios.com/
BEGIN:VEVENT
UID:673e7a30-b884-4976-ab32-b730240b024f@www.schislerfuneralhomes.com
DTSTAMP:20260419T225529Z
DTSTART:20260423T140000Z
DTEND:20260423T150000Z
SUMMARY:Visitation
DESCRIPTION:
URL:https://www.schislerfuneralhomes.com/obituaries/jean-gogel
LOCATION:St. John's Evangelical Lutheran Church 200 South Broad Street  
	Nazareth PA 18064
GEO:40.7378652;-75.3100657
END:VEVENT
END:VCALENDAR