BEGIN:VCALENDAR
VERSION:2.0
PRODID:-//Tukios.com/
BEGIN:VEVENT
UID:cee54e3e-9e78-40f7-82f8-8c8e66705fb2@www.schislerfuneralhomes.com
DTSTAMP:20260419T225625Z
DTSTART:20260423T150000Z
DTEND:20260423T160000Z
SUMMARY:Funeral Service
DESCRIPTION:
URL:https://www.schislerfuneralhomes.com/obituaries/jean-gogel
LOCATION:St. John's Evangelical Lutheran Church 200 South Broad Street  
	Nazareth PA 18064
GEO:40.7378652;-75.3100657
END:VEVENT
END:VCALENDAR