BEGIN:VCALENDAR
VERSION:2.0
PRODID:-//Tukios.com/
BEGIN:VEVENT
UID:a31ca4b3-8739-4b60-b991-16accb88f5b4@www.schislerfuneralhomes.com
DTSTAMP:20260423T204729Z
DTSTART:20260425T140000Z
DTEND:20260425T150000Z
SUMMARY:Visitation
DESCRIPTION:The Interment will be private.
URL:https://www.schislerfuneralhomes.com/obituaries/richard-horinko
LOCATION: 525 Delaware Ave  Palmerton PA 18071
GEO:40.804429;-75.6038726
END:VEVENT
END:VCALENDAR