BEGIN:VCALENDAR
VERSION:2.0
PRODID:-//Tukios.com/
BEGIN:VEVENT
UID:66de10f1-a037-46aa-834d-a92ee4b817bb@www.schislerfuneralhomes.com
DTSTAMP:20260423T205159Z
DTSTART:20260425T150000Z
DTEND:20260425T160000Z
SUMMARY:Memorial Service
DESCRIPTION:
URL:https://www.schislerfuneralhomes.com/obituaries/richard-horinko
LOCATION:Campton Funeral Home 525 Delaware Ave  Palmerton PA 18071
GEO:40.804429;-75.6038726
END:VEVENT
END:VCALENDAR