BEGIN:VCALENDAR
VERSION:2.0
PRODID:-//Tukios.com/
BEGIN:VEVENT
UID:6775a32c-52bf-403e-8e2e-3b26ecb6b9b0@www.schislerfuneralhomes.com
DTSTAMP:20260421T000951Z
DTSTART:20260424T220000Z
DTEND:20260424T233000Z
SUMMARY:Visitation
DESCRIPTION:In lieu of flowers, please consider a memorial contribution 
	to the Campton Funeral Home to assist the Geist family.
URL:https://www.schislerfuneralhomes.com/obituaries/todd-geist
LOCATION:Campton Funeral Home, Inc. 525 Delaware Avenue  Palmerton PA 
	18071
GEO:40.804429;-75.6038726
END:VEVENT
END:VCALENDAR